BEGIN:VCALENDAR
VERSION:2.0
PRODID:-//G&#039;steckenriebler - ECPv6.15.20//NONSGML v1.0//EN
CALSCALE:GREGORIAN
METHOD:PUBLISH
X-WR-CALNAME:G&#039;steckenriebler
X-ORIGINAL-URL:https://gsteckenriebler.de
X-WR-CALDESC:Veranstaltungen für G&#039;steckenriebler
REFRESH-INTERVAL;VALUE=DURATION:PT1H
X-Robots-Tag:noindex
X-PUBLISHED-TTL:PT1H
BEGIN:VTIMEZONE
TZID:Europe/Berlin
BEGIN:DAYLIGHT
TZOFFSETFROM:+0100
TZOFFSETTO:+0200
TZNAME:CEST
DTSTART:20230326T010000
END:DAYLIGHT
BEGIN:STANDARD
TZOFFSETFROM:+0200
TZOFFSETTO:+0100
TZNAME:CET
DTSTART:20231029T010000
END:STANDARD
BEGIN:DAYLIGHT
TZOFFSETFROM:+0100
TZOFFSETTO:+0200
TZNAME:CEST
DTSTART:20240331T010000
END:DAYLIGHT
BEGIN:STANDARD
TZOFFSETFROM:+0200
TZOFFSETTO:+0100
TZNAME:CET
DTSTART:20241027T010000
END:STANDARD
BEGIN:DAYLIGHT
TZOFFSETFROM:+0100
TZOFFSETTO:+0200
TZNAME:CEST
DTSTART:20250330T010000
END:DAYLIGHT
BEGIN:STANDARD
TZOFFSETFROM:+0200
TZOFFSETTO:+0100
TZNAME:CET
DTSTART:20251026T010000
END:STANDARD
BEGIN:DAYLIGHT
TZOFFSETFROM:+0100
TZOFFSETTO:+0200
TZNAME:CEST
DTSTART:20260329T010000
END:DAYLIGHT
BEGIN:STANDARD
TZOFFSETFROM:+0200
TZOFFSETTO:+0100
TZNAME:CET
DTSTART:20261025T010000
END:STANDARD
BEGIN:DAYLIGHT
TZOFFSETFROM:+0100
TZOFFSETTO:+0200
TZNAME:CEST
DTSTART:20270328T010000
END:DAYLIGHT
BEGIN:STANDARD
TZOFFSETFROM:+0200
TZOFFSETTO:+0100
TZNAME:CET
DTSTART:20271031T010000
END:STANDARD
END:VTIMEZONE
BEGIN:VEVENT
DTSTART;TZID=Europe/Berlin:20260313T190000
DTEND;TZID=Europe/Berlin:20260410T233000
DTSTAMP:20260421T121148
CREATED:20260127T130031Z
LAST-MODIFIED:20260210T101947Z
UID:4116-1773428400-1775863800@gsteckenriebler.de
SUMMARY:CSU Bockbierfest
DESCRIPTION:
URL:https://gsteckenriebler.de/event/csu-bockbierfest/
LOCATION:Gasthaus Butz
ATTACH;FMTTYPE=image/png:https://gsteckenriebler.de/wp-content/uploads/2024/12/cropped-android-chrome-512x512-1.png
END:VEVENT
BEGIN:VEVENT
DTSTART;TZID=Europe/Berlin:20251122T190000
DTEND;TZID=Europe/Berlin:20251122T230000
DTSTAMP:20260421T121148
CREATED:20250614T110018Z
LAST-MODIFIED:20250614T110018Z
UID:4083-1763838000-1763852400@gsteckenriebler.de
SUMMARY:Kathreintanz
DESCRIPTION:
URL:https://gsteckenriebler.de/event/kathreintanz/
LOCATION:Spital Regensburg\, St.-Katharinen-Platz 1\, Regensburg\, 93059\, Deutschland
ATTACH;FMTTYPE=image/png:https://gsteckenriebler.de/wp-content/uploads/2024/12/cropped-android-chrome-512x512-1.png
END:VEVENT
BEGIN:VEVENT
DTSTART;TZID=Europe/Berlin:20251004T190000
DTEND;TZID=Europe/Berlin:20251004T235900
DTSTAMP:20260421T121148
CREATED:20250603T120241Z
LAST-MODIFIED:20250613T083425Z
UID:4064-1759604400-1759622340@gsteckenriebler.de
SUMMARY:30 JAHRE G`STECKENRIEBLER!!!!
DESCRIPTION:Wir haben Geburtstag und lassen es krachen!!! \nZum 30 jährigem Jubiläum laden wir euch alle recht Herzlich ein. \nWir halten im Rettenbacher Hof eine Jubiläumsfeier\, damit wir mit euch allen unserem Geburtstag gebührend feiern können.  Ob beim tanzen\, feiern oder Party machen!! \nSpielen werden natürlich wir selbst!! \nDer Eintritt wird einen Gemeinnützigem Zweck gespendet!! \nWie schon auf unseren Auftritten verkündet\, gibst eine besondere Verlosung!  \nKEINE Platzreservierung!!!
URL:https://gsteckenriebler.de/event/30-jahre-gsteckenriebler/
LOCATION:Rettenbacher Hof\, Dorfstraße 18\, Rettenbach\, Bayern\, 93191\, Deutschland
ATTACH;FMTTYPE=image/png:https://gsteckenriebler.de/wp-content/uploads/2024/12/cropped-android-chrome-512x512-1.png
END:VEVENT
BEGIN:VEVENT
DTSTART;TZID=Europe/Berlin:20250927T130000
DTEND;TZID=Europe/Berlin:20250927T160000
DTSTAMP:20260421T121148
CREATED:20250807T161409Z
LAST-MODIFIED:20250807T161702Z
UID:4107-1758978000-1758988800@gsteckenriebler.de
SUMMARY:Bluval Straubing
DESCRIPTION:Wir sind auf der Bühne Ludwigsplatz vor dem Modehaus Hafner anzufinden.  \nAb 13:00 Uhr spielen wir abwechselnd mit der Hof- und Dorfkapelle zum Tanz auf ! \n 
URL:https://gsteckenriebler.de/event/bluval-straubing/
ATTACH;FMTTYPE=image/png:https://gsteckenriebler.de/wp-content/uploads/2024/12/cropped-android-chrome-512x512-1.png
END:VEVENT
BEGIN:VEVENT
DTSTART;TZID=Europe/Berlin:20250920T200000
DTEND;TZID=Europe/Berlin:20250920T235900
DTSTAMP:20260421T121148
CREATED:20250603T114810Z
LAST-MODIFIED:20250603T114810Z
UID:4061-1758398400-1758412740@gsteckenriebler.de
SUMMARY:Volkstanz Brennberg
DESCRIPTION:Beim Trachtenverein Burglinden Brennberg geht`s wieder heiß her. Im Gasthaus Wagner wird der Saal wieder in eine Sauna verwandelt. Wir wissen nicht ob es an dem niedrigen Saal oder an der brutalen Musik liegt. 🙂 \n   \n 
URL:https://gsteckenriebler.de/event/volkstanz-brennberg/
ATTACH;FMTTYPE=image/png:https://gsteckenriebler.de/wp-content/uploads/2024/12/android-chrome-512x512-1.png
END:VEVENT
BEGIN:VEVENT
DTSTART;TZID=Europe/Berlin:20250906T150000
DTEND;TZID=Europe/Berlin:20250906T223000
DTSTAMP:20260421T121148
CREATED:20250603T113603Z
LAST-MODIFIED:20250603T113603Z
UID:4059-1757170800-1757197800@gsteckenriebler.de
SUMMARY:Oida Gillamoos Abendsberg
DESCRIPTION:Wie schon viele Jahre davor eröffnen wir auch heuer wieder den Tanzboden auf dem Oiden Gillamoos.  \nAuf der Liebesinsel „heizen“ wir euch unter freien Himmel schneidig ein. „DEANDL LASST`S DIRNDL FLIEGEN“. \nGeheimtipp ist das eigens gebraute Dunkle Bier\, sowie die Schmankerl „Sau im Beck“.!!
URL:https://gsteckenriebler.de/event/oida-gillamoos-abendsberg/
LOCATION:Gillamoos Abensberg
ATTACH;FMTTYPE=image/png:https://gsteckenriebler.de/wp-content/uploads/2024/12/cropped-android-chrome-512x512-1.png
END:VEVENT
BEGIN:VEVENT
DTSTART;TZID=Europe/Berlin:20250817T110000
DTEND;TZID=Europe/Berlin:20250817T160000
DTSTAMP:20260421T121148
CREATED:20250603T112213Z
LAST-MODIFIED:20250603T112213Z
UID:4057-1755428400-1755446400@gsteckenriebler.de
SUMMARY:Gäubodenvolksfest Straubing Festzelt KRÖNNER
DESCRIPTION:Auch heuer spielen wir am zweitgrößtem (aber dem schönsten) Volksfest Bayerns auf.  \nIm Festzelt Krönner werden wir euch am Sonntag von 11:00 – 16:00 Uhr  mit gemütlicher\, bodenständiger Blasmusik unterhalten. So dass das Giggerl und die Maß noch besser schmeckt !!! \n  
URL:https://gsteckenriebler.de/event/gaeubodenvolksfest-straubing-festzelt-kroenner/
LOCATION:Gäubodenvolksfest Straubing
ATTACH;FMTTYPE=image/png:https://gsteckenriebler.de/wp-content/uploads/2024/12/cropped-android-chrome-512x512-1.png
END:VEVENT
BEGIN:VEVENT
DTSTART;TZID=Europe/Berlin:20250809T190000
DTEND;TZID=Europe/Berlin:20250809T233000
DTSTAMP:20260421T121148
CREATED:20250130T101557Z
LAST-MODIFIED:20250130T101557Z
UID:4051-1754766000-1754782200@gsteckenriebler.de
SUMMARY:600 Jahre Kellerfest in Wiesenfelden
DESCRIPTION:
URL:https://gsteckenriebler.de/event/600-jahre-kellerfest-in-wiesenfelden/
LOCATION:Felsenkeller Wiesenfelden
ATTACH;FMTTYPE=image/png:https://gsteckenriebler.de/wp-content/uploads/2024/12/cropped-android-chrome-512x512-1.png
END:VEVENT
BEGIN:VEVENT
DTSTART;TZID=Europe/Berlin:20250719T190000
DTEND;TZID=Europe/Berlin:20250719T230000
DTSTAMP:20260421T121148
CREATED:20250531T091121Z
LAST-MODIFIED:20250531T091344Z
UID:4055-1752951600-1752966000@gsteckenriebler.de
SUMMARY:Seebühnenfest in Wiesenfelden
DESCRIPTION:Genießt einen gemütlichen Abend mit uns ab 19:00 Uhr am Beckenweiher! Lauscht unserer Musik in schönster Kulisse und genießt eure selbst mitgebrachte Brotzeit sowie Getränke. Decken als Unterlage sowie Anti Brumm wären ratsam. Ein Schnapserl von dem ein oder anderen würden wir nicht verneinen\,😅 das unsere Spielfreude noch mehr steigern würde.😎 \nNatürlich gibt es auch hier für unsere Verlosung einen Stempel. \nBei schlechtem Wetter entfällt die Veranstaltung. Wir freuen uns auf euch! 🎶✨ \n 
URL:https://gsteckenriebler.de/event/seebuehnenfest-in-wiesenfelden/
LOCATION:Seebühne Wiesenfelden
ATTACH;FMTTYPE=image/png:https://gsteckenriebler.de/wp-content/uploads/2024/12/cropped-android-chrome-512x512-1.png
END:VEVENT
BEGIN:VEVENT
DTSTART;TZID=Europe/Berlin:20250712T190000
DTEND;TZID=Europe/Berlin:20250712T233000
DTSTAMP:20260421T121148
CREATED:20250130T101150Z
LAST-MODIFIED:20250130T101150Z
UID:4049-1752346800-1752363000@gsteckenriebler.de
SUMMARY:Tanz in Mallersdorf
DESCRIPTION:
URL:https://gsteckenriebler.de/event/tanz-in-mallersdorf/
LOCATION:Haus der Generationen Mallersdorf\, Straubinger Straße 37\, Mallerdorf-Pfaffenberg\, Bayern\, 84066\, Deutschland
ATTACH;FMTTYPE=image/png:https://gsteckenriebler.de/wp-content/uploads/2024/12/cropped-android-chrome-512x512-1.png
END:VEVENT
BEGIN:VEVENT
DTSTART;TZID=Europe/Berlin:20250628T200000
DTEND;TZID=Europe/Berlin:20250628T233000
DTSTAMP:20260421T121148
CREATED:20250130T100932Z
LAST-MODIFIED:20250130T100932Z
UID:4046-1751140800-1751153400@gsteckenriebler.de
SUMMARY:40 Jahre Höllentaler Jubiläumstanz
DESCRIPTION:
URL:https://gsteckenriebler.de/event/40-jahre-hoellentaler-jubilaeumstanz/
LOCATION:Siegenburg
ATTACH;FMTTYPE=image/png:https://gsteckenriebler.de/wp-content/uploads/2024/12/cropped-android-chrome-512x512-1.png
END:VEVENT
BEGIN:VEVENT
DTSTART;TZID=Europe/Berlin:20250619T190000
DTEND;TZID=Europe/Berlin:20250619T233000
DTSTAMP:20260421T121148
CREATED:20250114T165908Z
LAST-MODIFIED:20250114T165908Z
UID:4041-1750359600-1750375800@gsteckenriebler.de
SUMMARY:Volksfest Ergoldsbach Weißbierzelt
DESCRIPTION:
URL:https://gsteckenriebler.de/event/volksfest-ergoldsbach-weissbierzelt/
ATTACH;FMTTYPE=image/png:https://gsteckenriebler.de/wp-content/uploads/2024/12/cropped-android-chrome-512x512-1.png
END:VEVENT
BEGIN:VEVENT
DTSTART;TZID=Europe/Berlin:20250601T110000
DTEND;TZID=Europe/Berlin:20250601T160000
DTSTAMP:20260421T121148
CREATED:20241220T081233Z
LAST-MODIFIED:20241220T081233Z
UID:4029-1748775600-1748793600@gsteckenriebler.de
SUMMARY:Bergfest Pilgramsberg
DESCRIPTION:
URL:https://gsteckenriebler.de/event/bergfest-pilgramsberg/
LOCATION:Pilgramsberg Stockhalle
ATTACH;FMTTYPE=image/png:https://gsteckenriebler.de/wp-content/uploads/2018/10/Logo.png
END:VEVENT
BEGIN:VEVENT
DTSTART;TZID=Europe/Berlin:20250518T200000
DTEND;TZID=Europe/Berlin:20250518T233000
DTSTAMP:20260421T121148
CREATED:20241220T081109Z
LAST-MODIFIED:20241220T081109Z
UID:4026-1747598400-1747611000@gsteckenriebler.de
SUMMARY:150 Jahre FFW Wiesenfelden Bayrischer Abend
DESCRIPTION:
URL:https://gsteckenriebler.de/event/150-jahre-ffw-wiesenfelden-bayrischer-abend/
LOCATION:Wiesenfelden Festzelt
ATTACH;FMTTYPE=image/png:https://gsteckenriebler.de/wp-content/uploads/2018/10/Logo.png
END:VEVENT
BEGIN:VEVENT
DTSTART;TZID=Europe/Berlin:20250510T190000
DTEND;TZID=Europe/Berlin:20250510T233000
DTSTAMP:20260421T121148
CREATED:20241220T080919Z
LAST-MODIFIED:20241220T080919Z
UID:4023-1746903600-1746919800@gsteckenriebler.de
SUMMARY:125 Jahre KRV Rettenbach Kameradschaftsabend
DESCRIPTION:
URL:https://gsteckenriebler.de/event/125-jahre-krv-rettenbach-kameradschaftsabend/
LOCATION:Rettenbach Festzelt
ATTACH;FMTTYPE=image/png:https://gsteckenriebler.de/wp-content/uploads/2018/10/Logo.png
END:VEVENT
BEGIN:VEVENT
DTSTART;TZID=Europe/Berlin:20250504T140000
DTEND;TZID=Europe/Berlin:20250504T190000
DTSTAMP:20260421T121148
CREATED:20250114T165659Z
LAST-MODIFIED:20250114T165659Z
UID:4039-1746367200-1746385200@gsteckenriebler.de
SUMMARY:Biergarten Ratzenhofen
DESCRIPTION:
URL:https://gsteckenriebler.de/event/biergarten-ratzenhofen/
LOCATION:Schloss Ratzenhofen\, Dorfstraße 32\, Elsendorf\, 84094
ATTACH;FMTTYPE=image/png:https://gsteckenriebler.de/wp-content/uploads/2024/12/cropped-android-chrome-512x512-1.png
END:VEVENT
BEGIN:VEVENT
DTSTART;TZID=Europe/Berlin:20250420T200000
DTEND;TZID=Europe/Berlin:20250420T233000
DTSTAMP:20260421T121148
CREATED:20241220T080614Z
LAST-MODIFIED:20241220T080614Z
UID:4021-1745179200-1745191800@gsteckenriebler.de
SUMMARY:Ostertanz in Roding
DESCRIPTION:
URL:https://gsteckenriebler.de/event/ostertanz-in-roding/
LOCATION:Stadthalle Roding\, Chamer Steig 1\, Roding\, 93426\, Deutschland
ATTACH;FMTTYPE=image/png:https://gsteckenriebler.de/wp-content/uploads/2018/10/Logo.png
END:VEVENT
BEGIN:VEVENT
DTSTART;TZID=Europe/Berlin:20250405T190000
DTEND;TZID=Europe/Berlin:20250405T233000
DTSTAMP:20260421T121148
CREATED:20250114T165440Z
LAST-MODIFIED:20250114T165440Z
UID:4037-1743879600-1743895800@gsteckenriebler.de
SUMMARY:Wirtshausroas in ANNA  liebt Brot Kaffee
DESCRIPTION:
URL:https://gsteckenriebler.de/event/wirtshausroas-in-anna-liebt-brot-kaffee/
LOCATION:Anna liebt Brot und Kaffee  – Straubing
ATTACH;FMTTYPE=image/png:https://gsteckenriebler.de/wp-content/uploads/2024/12/cropped-android-chrome-512x512-1.png
END:VEVENT
BEGIN:VEVENT
DTSTART;TZID=Europe/Berlin:20250301T200000
DTEND;TZID=Europe/Berlin:20250301T233000
DTSTAMP:20260421T121148
CREATED:20241220T075506Z
LAST-MODIFIED:20250130T100548Z
UID:4015-1740859200-1740871800@gsteckenriebler.de
SUMMARY:Bäckerball Straubing
DESCRIPTION:
URL:https://gsteckenriebler.de/event/tanz-in-semerskirchen/
LOCATION:Josef von Fraunhofer Halle\, Am Hagen 75\, Straubing\, 94315\, Deutschland
ATTACH;FMTTYPE=image/png:https://gsteckenriebler.de/wp-content/uploads/2018/10/cropped-Logo.png
END:VEVENT
BEGIN:VEVENT
DTSTART;TZID=Europe/Berlin:20250112T150000
DTEND;TZID=Europe/Berlin:20250112T190000
DTSTAMP:20260421T121148
CREATED:20241220T080310Z
LAST-MODIFIED:20241220T080310Z
UID:4019-1736694000-1736708400@gsteckenriebler.de
SUMMARY:Tanz in Semerskirchen
DESCRIPTION:
URL:https://gsteckenriebler.de/event/tanz-in-semerskirchen-2/
ATTACH;FMTTYPE=image/png:https://gsteckenriebler.de/wp-content/uploads/2018/10/Logo.png
END:VEVENT
BEGIN:VEVENT
DTSTART;TZID=Europe/Berlin:20241123T190000
DTEND;TZID=Europe/Berlin:20241123T233000
DTSTAMP:20260421T121148
CREATED:20240918T140806Z
LAST-MODIFIED:20241109T153712Z
UID:4010-1732388400-1732404600@gsteckenriebler.de
SUMMARY:Tanz in Regensburg
DESCRIPTION:
URL:https://gsteckenriebler.de/event/tanz-in-regensburg/
LOCATION:Spital Regensburg\, St.-Katharinen-Platz 1\, Regensburg\, 93059\, Deutschland
ATTACH;FMTTYPE=image/png:https://gsteckenriebler.de/wp-content/uploads/2018/10/Logo.png
END:VEVENT
BEGIN:VEVENT
DTSTART;TZID=Europe/Berlin:20240928T200000
DTEND;TZID=Europe/Berlin:20240928T233000
DTSTAMP:20260421T121148
CREATED:20240918T140448Z
LAST-MODIFIED:20240918T140832Z
UID:4005-1727553600-1727566200@gsteckenriebler.de
SUMMARY:Tanz in Brennberg
DESCRIPTION:Der Trachtenverein Brennberg freut sich auf zahlreiche Gäste \n 
URL:https://gsteckenriebler.de/event/tanz-in-brennberg/
ATTACH;FMTTYPE=image/png:https://gsteckenriebler.de/wp-content/uploads/2018/10/Logo.png
END:VEVENT
BEGIN:VEVENT
DTSTART;TZID=Europe/Berlin:20240830T190000
DTEND;TZID=Europe/Berlin:20240830T230000
DTSTAMP:20260421T121148
CREATED:20240710T070641Z
LAST-MODIFIED:20240710T070641Z
UID:3996-1725044400-1725058800@gsteckenriebler.de
SUMMARY:20 Jahre Musikfreunde Rund um den Lamberg
DESCRIPTION:Unter dem Motto „es ist so schön ein Musikant zu sein“ freuen wir uns mit fetziger/gepflegter Blasmusik hart aber herzlich im Bierzelt auf zu spielen.
URL:https://gsteckenriebler.de/event/20-jahre-musikfreunde-rund-um-den-lamberg/
LOCATION:Vilzing
ATTACH;FMTTYPE=image/png:https://gsteckenriebler.de/wp-content/uploads/2018/10/Logo.png
END:VEVENT
BEGIN:VEVENT
DTSTART;TZID=Europe/Berlin:20240812T110000
DTEND;TZID=Europe/Berlin:20240812T160000
DTSTAMP:20260421T121148
CREATED:20240710T065947Z
LAST-MODIFIED:20240710T065947Z
UID:3994-1723460400-1723478400@gsteckenriebler.de
SUMMARY:Gäubodenvolksfest im Festzelt Krönner
DESCRIPTION:Gemütlich Essen und Trinken bei bodenständiger bayrischer Blasmusik.
URL:https://gsteckenriebler.de/event/gaeubodenvolksfest-im-festzelt-kroenner/
LOCATION:Gäubodenvolksfest Straubing
ATTACH;FMTTYPE=image/png:https://gsteckenriebler.de/wp-content/uploads/2018/10/Logo.png
END:VEVENT
END:VCALENDAR